BEGIN:VCALENDAR
VERSION:2.0
PRODID:-//Bogenbahn-Rabenpfeil - ECPv6.11.2.1//NONSGML v1.0//EN
CALSCALE:GREGORIAN
METHOD:PUBLISH
X-ORIGINAL-URL:http://rabenpfeil.de
X-WR-CALDESC:Veranstaltungen für Bogenbahn-Rabenpfeil
REFRESH-INTERVAL;VALUE=DURATION:PT1H
X-Robots-Tag:noindex
X-PUBLISHED-TTL:PT1H
BEGIN:VTIMEZONE
TZID:Europe/Paris
BEGIN:DAYLIGHT
TZOFFSETFROM:+0100
TZOFFSETTO:+0200
TZNAME:CEST
DTSTART:20230326T010000
END:DAYLIGHT
BEGIN:STANDARD
TZOFFSETFROM:+0200
TZOFFSETTO:+0100
TZNAME:CET
DTSTART:20231029T010000
END:STANDARD
BEGIN:DAYLIGHT
TZOFFSETFROM:+0100
TZOFFSETTO:+0200
TZNAME:CEST
DTSTART:20240331T010000
END:DAYLIGHT
BEGIN:STANDARD
TZOFFSETFROM:+0200
TZOFFSETTO:+0100
TZNAME:CET
DTSTART:20241027T010000
END:STANDARD
END:VTIMEZONE
BEGIN:VEVENT
DTSTART;VALUE=DATE:20241018
DTEND;VALUE=DATE:20241021
DTSTAMP:20260421T172614
CREATED:20240116T090004Z
LAST-MODIFIED:20240116T090004Z
UID:1070-1729209600-1729468799@rabenpfeil.de
SUMMARY:91555 Feuchtwangen
DESCRIPTION:
URL:http://rabenpfeil.de/event/91555-feuchtwangen/
END:VEVENT
BEGIN:VEVENT
DTSTART;VALUE=DATE:20241005
DTEND;VALUE=DATE:20241007
DTSTAMP:20260421T172614
CREATED:20240116T085918Z
LAST-MODIFIED:20240116T085918Z
UID:1068-1728086400-1728259199@rabenpfeil.de
SUMMARY:37218 Witzenhausen\, Burg Berlepsch
DESCRIPTION:
URL:http://rabenpfeil.de/event/37218-witzenhausen-burg-berlepsch-2/
END:VEVENT
BEGIN:VEVENT
DTSTART;VALUE=DATE:20240913
DTEND;VALUE=DATE:20240916
DTSTAMP:20260421T172614
CREATED:20240116T085832Z
LAST-MODIFIED:20240116T085832Z
UID:1066-1726185600-1726444799@rabenpfeil.de
SUMMARY:83104 Maxlrain
DESCRIPTION:
URL:http://rabenpfeil.de/event/83104-maxlrain/
END:VEVENT
BEGIN:VEVENT
DTSTART;VALUE=DATE:20240803
DTEND;VALUE=DATE:20240805
DTSTAMP:20260421T172614
CREATED:20240116T085752Z
LAST-MODIFIED:20240116T085752Z
UID:1064-1722643200-1722815999@rabenpfeil.de
SUMMARY:98744 Oberweißbach
DESCRIPTION:
URL:http://rabenpfeil.de/event/98744-oberweissbach/
END:VEVENT
BEGIN:VEVENT
DTSTART;VALUE=DATE:20240726
DTEND;VALUE=DATE:20240729
DTSTAMP:20260421T172614
CREATED:20240116T085704Z
LAST-MODIFIED:20240116T085704Z
UID:1062-1721952000-1722211199@rabenpfeil.de
SUMMARY:06537 Tilleda\, Keltisches Erntefest
DESCRIPTION:
URL:http://rabenpfeil.de/event/06537-tilleda-keltisches-erntefest/
END:VEVENT
BEGIN:VEVENT
DTSTART;VALUE=DATE:20240720
DTEND;VALUE=DATE:20240722
DTSTAMP:20260421T172614
CREATED:20240516T091525Z
LAST-MODIFIED:20240516T091525Z
UID:1115-1721433600-1721606399@rabenpfeil.de
SUMMARY:Plessemarkt
DESCRIPTION:
URL:http://rabenpfeil.de/event/plessemarkt/
LOCATION:Bovenden\, 37120\, Deutschland
END:VEVENT
BEGIN:VEVENT
DTSTART;VALUE=DATE:20240622
DTEND;VALUE=DATE:20240624
DTSTAMP:20260421T172614
CREATED:20240116T085507Z
LAST-MODIFIED:20240116T085507Z
UID:1060-1719014400-1719187199@rabenpfeil.de
SUMMARY:98701 Großbreitenbach\, Mittelalter (er)Leben
DESCRIPTION:
URL:http://rabenpfeil.de/event/98701-grossbreitenbach-mittelalter-erleben/
END:VEVENT
BEGIN:VEVENT
DTSTART;VALUE=DATE:20240608
DTEND;VALUE=DATE:20240610
DTSTAMP:20260421T172614
CREATED:20240116T085414Z
LAST-MODIFIED:20240207T154900Z
UID:1058-1717804800-1717977599@rabenpfeil.de
SUMMARY:Liebenstein
DESCRIPTION:
URL:http://rabenpfeil.de/event/96528-schalkau-schaumburgfest/
END:VEVENT
BEGIN:VEVENT
DTSTART;VALUE=DATE:20240510
DTEND;VALUE=DATE:20240513
DTSTAMP:20260421T172614
CREATED:20240116T085317Z
LAST-MODIFIED:20240116T085317Z
UID:1056-1715299200-1715558399@rabenpfeil.de
SUMMARY:37176 Nörten-Hardenberg
DESCRIPTION:
URL:http://rabenpfeil.de/event/37176-noerten-hardenberg/
END:VEVENT
BEGIN:VEVENT
DTSTART;VALUE=DATE:20240501
DTEND;VALUE=DATE:20240506
DTSTAMP:20260421T172614
CREATED:20240116T085224Z
LAST-MODIFIED:20240116T085224Z
UID:1054-1714521600-1714953599@rabenpfeil.de
SUMMARY:92543 Guteneck\,
DESCRIPTION:
URL:http://rabenpfeil.de/event/92543-guteneck/
END:VEVENT
BEGIN:VEVENT
DTSTART;VALUE=DATE:20240427
DTEND;VALUE=DATE:20240429
DTSTAMP:20260421T172614
CREATED:20240116T085048Z
LAST-MODIFIED:20240116T085048Z
UID:1052-1714176000-1714348799@rabenpfeil.de
SUMMARY:37218 Witzenhausen\, Burg Berlepsch
DESCRIPTION:
URL:http://rabenpfeil.de/event/37218-witzenhausen-burg-berlepsch/
LOCATION:Schloss Berlepsch\, Berlepsch 1\, Witzenhausen\, 37218\, Deutschland
END:VEVENT
BEGIN:VEVENT
DTSTART;VALUE=DATE:20240330
DTEND;VALUE=DATE:20240402
DTSTAMP:20260421T172614
CREATED:20240116T084928Z
LAST-MODIFIED:20240207T155054Z
UID:1049-1711756800-1712015999@rabenpfeil.de
SUMMARY:89407 Dillingen a. d. Donau
DESCRIPTION:
URL:http://rabenpfeil.de/event/38889-blankenburg-burg-regenstein/
LOCATION:Dilingen a. d. Donau\, Bayern\, 89407
END:VEVENT
BEGIN:VEVENT
DTSTART;VALUE=DATE:20230908
DTEND;VALUE=DATE:20230911
DTSTAMP:20260421T172614
CREATED:20230205T160120Z
LAST-MODIFIED:20230510T075545Z
UID:857-1694131200-1694390399@rabenpfeil.de
SUMMARY:98527 Suhl Mittelalter & Fantasy
DESCRIPTION:
URL:http://rabenpfeil.de/event/98527-suhl-mittelalter-fantasy/
LOCATION:Suhl-Goldlauter\, Thüringen\, Deutschland
END:VEVENT
BEGIN:VEVENT
DTSTART;TZID=Europe/Paris:20230714T080000
DTEND;TZID=Europe/Paris:20230716T170000
DTSTAMP:20260421T172614
CREATED:20230205T160321Z
LAST-MODIFIED:20230510T075602Z
UID:859-1689321600-1689526800@rabenpfeil.de
SUMMARY:97239 Aub Fantasy & Mittelalter
DESCRIPTION:
URL:http://rabenpfeil.de/event/97239-aub-fantasy-mittelalter/
LOCATION:Aub
END:VEVENT
BEGIN:VEVENT
DTSTART;VALUE=DATE:20230707
DTEND;VALUE=DATE:20230710
DTSTAMP:20260421T172614
CREATED:20230624T064615Z
LAST-MODIFIED:20230624T064615Z
UID:1021-1688688000-1688947199@rabenpfeil.de
SUMMARY:91486 Uehlfeld
DESCRIPTION:
URL:http://rabenpfeil.de/event/91486-uehlfeld-2/
END:VEVENT
BEGIN:VEVENT
DTSTART;VALUE=DATE:20230701
DTEND;VALUE=DATE:20230703
DTSTAMP:20260421T172614
CREATED:20230624T064435Z
LAST-MODIFIED:20230624T064435Z
UID:1019-1688169600-1688342399@rabenpfeil.de
SUMMARY:Oberweißbach
DESCRIPTION:
URL:http://rabenpfeil.de/event/oberweissbach/
END:VEVENT
BEGIN:VEVENT
DTSTART;VALUE=DATE:20230616
DTEND;VALUE=DATE:20230619
DTSTAMP:20260421T172614
CREATED:20230510T075830Z
LAST-MODIFIED:20230510T075830Z
UID:994-1686873600-1687132799@rabenpfeil.de
SUMMARY:93077 Bad Abbach
DESCRIPTION:
URL:http://rabenpfeil.de/event/93077-bad-abbach/
LOCATION:Bad Abbach
END:VEVENT
BEGIN:VEVENT
DTSTART;VALUE=DATE:20230527
DTEND;VALUE=DATE:20230530
DTSTAMP:20260421T172614
CREATED:20230205T160803Z
LAST-MODIFIED:20230205T160803Z
UID:867-1685145600-1685404799@rabenpfeil.de
SUMMARY:99631 Weißensee Ritterturnier
DESCRIPTION:
URL:http://rabenpfeil.de/event/99631-weissensee-ritterturnier/
LOCATION:Weißensee\, 99631\, Deutschland
END:VEVENT
BEGIN:VEVENT
DTSTART;VALUE=DATE:20230519
DTEND;VALUE=DATE:20230522
DTSTAMP:20260421T172614
CREATED:20230205T160902Z
LAST-MODIFIED:20230205T160902Z
UID:870-1684454400-1684713599@rabenpfeil.de
SUMMARY:95028 Hof Fantasy & Mittelalter
DESCRIPTION:
URL:http://rabenpfeil.de/event/95028-hof-fantasy-mittelalter/
LOCATION:Hof
END:VEVENT
END:VCALENDAR